BEGIN:VCALENDAR
VERSION:2.0
PRODID:-//ChamberMaster//Event Calendar 2.0//EN
METHOD:PUBLISH
X-PUBLISHED-TTL:P3D
REFRESH-INTERVAL:P3D
CALSCALE:GREGORIAN
BEGIN:VEVENT
DTSTART:20111009T000000Z
DTEND:20111009T000000Z
X-MICROSOFT-CDO-ALLDAYEVENT:FALSE
SUMMARY:Grape Expectations
DESCRIPTION:Grape Expectations\, a fall fundraiser for the Georgetown Area Junior Forum\, will be held at The Vineyard on Saturday\, October 8th at 7:00pm. Price for the event is $35.00 per person and includes samples of wine paired with the finest chocolates. Please contact Kara at kara.bell78@gmail.com or 512-818-8134 for tickets.
X-ALT-DESC;FMTTYPE=text/html:<div>\n	<strong><span style="font-size: 20px"><strong>Grape Expectations</strong></span>\, a fall fundraiser for the Georgetown Area Junior Forum\, will be held at The Vineyard on Saturday\, October 8th at 7:00pm. Price for the event is $35.00 per person and includes samples of wine paired with the finest chocolates. Please contact Kara at <a href="mailto:kara.bell78@gmail.com" title="mailto:kara.bell78@gmail.com"><font color="#c98f33">kara.bell78@gmail.com</font></a> or 512-818-8134 for tickets.<span _fck_bookmark="1" style="display: none">&nbsp\;</span> </strong></div>\n
LOCATION:The Vineyard of Florence
UID:e.676.513
SEQUENCE:3
DTSTAMP:20260424T192151Z
URL:http://florencechamber.chambermaster.com/events/details/grape-expectations-10-08-2011-513
END:VEVENT

END:VCALENDAR
